BEGIN:VCALENDAR
VERSION:2.0
PRODID:-//Plone.org//NONSGML plone.app.event//EN
X-WR-TIMEZONE:US/Central
BEGIN:VEVENT
SUMMARY:Acrylic Christmas Ornament Painting Class
DTSTART;TZID=US/Central:20241220T150000
DTEND;TZID=US/Central:20241220T160000
DTSTAMP:20260424T220710Z
UID:1a71cd478ab44937900d18e57c90a1c2@saas_stack_varnish:6080
ATTENDEE;CN="Ages 8 and up";ROLE=REQ-PARTICIPANT:Ages 8 and up
CONTACT:Jo'Lee Tarkon\, 936.327.4252\, livlibrarycal@gmail.com
CREATED:20241127T161011Z
LAST-MODIFIED:20241127T161120Z
LOCATION:Children's Activity Room (216)
URL:https://livingston.ploud.net/acrylic-christmas-ornament-painting-class
END:VEVENT
BEGIN:VTIMEZONE
TZID:US/Central
X-LIC-LOCATION:US/Central
BEGIN:STANDARD
DTSTART:20241103T010000
TZNAME:CST
TZOFFSETFROM:-0500
TZOFFSETTO:-0600
END:STANDARD
END:VTIMEZONE
END:VCALENDAR
