BEGIN:VCALENDAR
VERSION:2.0
PRODID:-//Plone.org//NONSGML plone.app.event//EN
X-WR-TIMEZONE:US/Central
BEGIN:VEVENT
SUMMARY:Acrylic Paint Pouring Class
DTSTART;TZID=US/Central:20241125T103000
DTEND;TZID=US/Central:20241125T120000
DTSTAMP:20260424T215221Z
UID:a11ef4fe440a49bba001dd29993f2fb3@saas_stack_varnish:6080
ATTENDEE;CN="Ages 12 to Adult";ROLE=REQ-PARTICIPANT:Ages 12 to Adult
CONTACT:936.327.4252\, livlibrarycal@gmail.com
CREATED:20241120T145112Z
LAST-MODIFIED:20241120T145324Z
LOCATION:Children's Activity Room
URL:https://livingston.ploud.net/acrylic-paint-pouring-class
END:VEVENT
BEGIN:VTIMEZONE
TZID:US/Central
X-LIC-LOCATION:US/Central
BEGIN:STANDARD
DTSTART:20241103T010000
TZNAME:CST
TZOFFSETFROM:-0500
TZOFFSETTO:-0600
END:STANDARD
END:VTIMEZONE
END:VCALENDAR
