BEGIN:VCALENDAR
VERSION:2.0
PRODID:-//Plone.org//NONSGML plone.app.event//EN
X-WR-TIMEZONE:US/Central
BEGIN:VEVENT
SUMMARY:Afterschool Storytime
DTSTART;TZID=US/Central:20241107T163000
DTEND;TZID=US/Central:20241107T173000
DTSTAMP:20260424T214916Z
UID:37de82734d984fc1b5ed1987b02e3d0d@saas_stack_varnish:6080
ATTENDEE;CN="Ages 5 - 9";ROLE=REQ-PARTICIPANT:Ages 5 - 9
CONTACT:Jo'Lee Tarkon\, 936.327.4252\, library@livingstonlibrary.net
CREATED:20241024T182809Z
DESCRIPTION:Theme: Kindness
LAST-MODIFIED:20241024T213121Z
LOCATION:Children's Activity Room
URL:https://livingston.ploud.net/afterschool-storytime
END:VEVENT
BEGIN:VTIMEZONE
TZID:US/Central
X-LIC-LOCATION:US/Central
BEGIN:STANDARD
DTSTART:20241103T010000
TZNAME:CST
TZOFFSETFROM:-0500
TZOFFSETTO:-0600
END:STANDARD
END:VTIMEZONE
END:VCALENDAR
