BEGIN:VCALENDAR
VERSION:2.0
PRODID:-//Plone.org//NONSGML plone.app.event//EN
X-WR-TIMEZONE:US/Central
BEGIN:VEVENT
SUMMARY:Christmas (Library Closed)
DTSTART;VALUE=DATE:20251225
DTEND;VALUE=DATE:20251228
DTSTAMP:20260424T214819Z
UID:639b768b110a4774a699d6e6f5442974@saas_stack_varnish:6080
CREATED:20241119T152900Z
LAST-MODIFIED:20241119T152916Z
URL:https://livingston.ploud.net/christmas-library-closed
END:VEVENT
END:VCALENDAR
