BEGIN:VCALENDAR
VERSION:2.0
PRODID:-//Plone.org//NONSGML plone.app.event//EN
X-WR-TIMEZONE:US/Central
BEGIN:VEVENT
SUMMARY:Columbus Day (Library Closed)
DTSTART;VALUE=DATE:20251013
DTEND;VALUE=DATE:20251014
DTSTAMP:20260424T215227Z
UID:fe6f7d5eebda4d6ba8fbf81030f779c6@saas_stack_varnish:6080
CREATED:20241119T152554Z
LAST-MODIFIED:20241119T152603Z
URL:https://livingston.ploud.net/columbus-day-library-closed-1
END:VEVENT
END:VCALENDAR
