BEGIN:VCALENDAR
VERSION:2.0
PRODID:-//Plone.org//NONSGML plone.app.event//EN
X-WR-TIMEZONE:US/Central
BEGIN:VEVENT
SUMMARY:Crafternoon
DTSTART;TZID=US/Central:20250331T140000
DTEND;TZID=US/Central:20250331T160000
DTSTAMP:20260424T214916Z
UID:04d4a8429ce0444e83d5daae8e441383@saas_stack_varnish:6080
ATTENDEE;CN="All ages";ROLE=REQ-PARTICIPANT:All ages
CONTACT:Jo'Lee Tarkon\, 936.327.4252\, livlibrarycal@gmail.com
CREATED:20250310T203106Z
DESCRIPTION:Kick off spring break with craft activities for all ages. We p
 rovide the supplies\, you supply the creativity. Some tutorials will be av
 ailable.
LAST-MODIFIED:20250310T203117Z
LOCATION:Children's Activity Room (216)
URL:https://livingston.ploud.net/crafternoon-1
END:VEVENT
BEGIN:VTIMEZONE
TZID:US/Central
X-LIC-LOCATION:US/Central
BEGIN:DAYLIGHT
DTSTART:20250309T030000
TZNAME:CDT
TZOFFSETFROM:-0600
TZOFFSETTO:-0500
END:DAYLIGHT
END:VTIMEZONE
END:VCALENDAR
