BEGIN:VCALENDAR
VERSION:2.0
PRODID:-//Plone.org//NONSGML plone.app.event//EN
X-WR-TIMEZONE:US/Central
BEGIN:VEVENT
SUMMARY:Crafternoon
DTSTART;TZID=US/Central:20251007T140000
DTEND;TZID=US/Central:20251007T160000
DTSTAMP:20260424T214819Z
UID:f0f02a3cbcae4ce59d45e9872393d2f1@saas_stack_varnish:6080
ATTENDEE;CN="All ages";ROLE=REQ-PARTICIPANT:All ages
CONTACT:Jo'Lee Tarkon\, 936.327.4252\, library@livingstontx.gov
CREATED:20250915T174526Z
DESCRIPTION:We'll have all of our best craft supplies available\, so come 
 make whatever you can imagine! Some instruction and demonstrations will be
  available as well.
LAST-MODIFIED:20250915T175655Z
LOCATION:Rm 216 (Children's Activity Room)
URL:https://livingston.ploud.net/crafternoon-2
END:VEVENT
BEGIN:VTIMEZONE
TZID:US/Central
X-LIC-LOCATION:US/Central
BEGIN:DAYLIGHT
DTSTART:20250309T030000
TZNAME:CDT
TZOFFSETFROM:-0600
TZOFFSETTO:-0500
END:DAYLIGHT
END:VTIMEZONE
END:VCALENDAR
