BEGIN:VCALENDAR
VERSION:2.0
PRODID:-//Plone.org//NONSGML plone.app.event//EN
X-WR-TIMEZONE:US/Central
BEGIN:VEVENT
SUMMARY:Family Puzzle/Game Day
DTSTART;VALUE=DATE:20240515
DTEND;VALUE=DATE:20240516
DTSTAMP:20260424T215942Z
UID:97faca30b8f74a6bada2b400735c5aa8@saas_stack_varnish:6080
CONTACT:936.327.4252\, library@livingstonlibrary.net
CREATED:20240501T181547Z
LAST-MODIFIED:20240501T181552Z
LOCATION:Meeting Room
URL:https://livingston.ploud.net/family-puzzle-game-day
END:VEVENT
END:VCALENDAR
