BEGIN:VCALENDAR
VERSION:2.0
PRODID:-//Plone.org//NONSGML plone.app.event//EN
X-WR-TIMEZONE:US/Central
BEGIN:VEVENT
SUMMARY:Friends of the Library Book Fair
DTSTART;TZID=US/Central:20250117T100000
DTEND;TZID=US/Central:20250117T140000
DTSTAMP:20260424T215942Z
UID:6cfcce2c6aa34927ba14ad6e43ca8e88@saas_stack_varnish:6080
RRULE:FREQ=MONTHLY;COUNT=15;BYDAY=+3FR
EXDATE;TZID=US/Central:20250221T000000,20250418T000000,20250620T000000,202
 50815T000000,20251017T000000,20251219T000000,20260116T000000,20260220T0000
 00,20260320T000000
CONTACT:936.327.4252
CREATED:20241126T132218Z
LAST-MODIFIED:20241126T132244Z
LOCATION:2nd Floor Book Sale Room
URL:https://livingston.ploud.net/friends-of-the-library-book-fair
END:VEVENT
BEGIN:VTIMEZONE
TZID:US/Central
X-LIC-LOCATION:US/Central
BEGIN:STANDARD
DTSTART:20241103T010000
TZNAME:CST
TZOFFSETFROM:-0500
TZOFFSETTO:-0600
END:STANDARD
END:VTIMEZONE
END:VCALENDAR
