BEGIN:VCALENDAR
VERSION:2.0
PRODID:-//Plone.org//NONSGML plone.app.event//EN
X-WR-TIMEZONE:US/Central
BEGIN:VEVENT
SUMMARY:Family Game Day
DTSTART;TZID=US/Central:20241122T110000
DTEND;TZID=US/Central:20241122T170000
DTSTAMP:20260424T214657Z
UID:0adec52bd68b4aaab45e214aee88fd33@saas_stack_varnish:6080
ATTENDEE;CN="All ages";ROLE=REQ-PARTICIPANT:All ages
CONTACT:Jo'Lee Tarkon\, 936.327.4252\, livlibrarycal@gmail.com
CREATED:20241106T190210Z
LAST-MODIFIED:20241120T145601Z
LOCATION:Children's Activity Room
URL:https://livingston.ploud.net/game-day
END:VEVENT
BEGIN:VTIMEZONE
TZID:US/Central
X-LIC-LOCATION:US/Central
BEGIN:STANDARD
DTSTART:20241103T010000
TZNAME:CST
TZOFFSETFROM:-0500
TZOFFSETTO:-0600
END:STANDARD
END:VTIMEZONE
END:VCALENDAR
