BEGIN:VCALENDAR
VERSION:2.0
PRODID:-//Plone.org//NONSGML plone.app.event//EN
X-WR-TIMEZONE:US/Central
BEGIN:VEVENT
SUMMARY:Houston Museum of Natural Science - Astronomy
DTSTART;TZID=US/Central:20250401T163000
DTEND;TZID=US/Central:20250401T173000
DTSTAMP:20260424T234649Z
UID:6a66fe8d43274e028ee3545f5e338ee6@saas_stack_varnish:6080
ATTENDEE;CN="Ages K-12";ROLE=REQ-PARTICIPANT:Ages K-12
CONTACT:Jo'Lee Tarkon\, 936.327.4252\, livlibrarycal@gmail.com
CREATED:20250310T203342Z
LAST-MODIFIED:20250310T203534Z
LOCATION:Children's Activity Room (216)
URL:https://livingston.ploud.net/houston-museum-of-natural-science-astrono
 my
END:VEVENT
BEGIN:VTIMEZONE
TZID:US/Central
X-LIC-LOCATION:US/Central
BEGIN:DAYLIGHT
DTSTART:20250309T030000
TZNAME:CDT
TZOFFSETFROM:-0600
TZOFFSETTO:-0500
END:DAYLIGHT
END:VTIMEZONE
END:VCALENDAR
