BEGIN:VCALENDAR
VERSION:2.0
PRODID:-//Plone.org//NONSGML plone.app.event//EN
X-WR-TIMEZONE:US/Central
BEGIN:VEVENT
SUMMARY:Juneteenth (Library Closed)
DTSTART;VALUE=DATE:20250619
DTEND;VALUE=DATE:20250620
DTSTAMP:20260424T214657Z
UID:cf2f79744ca345f0b2dba791f61c1085@saas_stack_varnish:6080
CREATED:20241119T151931Z
LAST-MODIFIED:20241119T151939Z
URL:https://livingston.ploud.net/juneteenth-library-closed
END:VEVENT
END:VCALENDAR
