BEGIN:VCALENDAR
VERSION:2.0
PRODID:-//Plone.org//NONSGML plone.app.event//EN
X-WR-TIMEZONE:US/Central
BEGIN:VEVENT
SUMMARY:Last Day to Turn in Summer Reading Logs
DTSTART;VALUE=DATE:20240717
DTEND;VALUE=DATE:20240718
DTSTAMP:20260424T220557Z
UID:28b66fd0dc7643b2900e9e33cca2f2cd@saas_stack_varnish:6080
CONTACT:936.327.4252
CREATED:20240703T113226Z
LAST-MODIFIED:20240703T113518Z
LOCATION:Livingston Municipal Library
URL:https://livingston.ploud.net/last-day-to-turn-in-summer-reading-logs
END:VEVENT
END:VCALENDAR
