BEGIN:VCALENDAR
VERSION:2.0
PRODID:-//Plone.org//NONSGML plone.app.event//EN
X-WR-TIMEZONE:US/Central
BEGIN:VEVENT
SUMMARY:Library Closed (Labor Day)
DTSTART;VALUE=DATE:20240831
DTEND;VALUE=DATE:20240901
DTSTAMP:20260424T215055Z
UID:6560de89bb794046be80c8b1bc0f255e@saas_stack_varnish:6080
CREATED:20240731T152347Z
LAST-MODIFIED:20240731T152410Z
LOCATION:Livingston Municipal Library
URL:https://livingston.ploud.net/library-closed-labor-day-1
END:VEVENT
END:VCALENDAR
