BEGIN:VCALENDAR
VERSION:2.0
PRODID:-//Plone.org//NONSGML plone.app.event//EN
X-WR-TIMEZONE:US/Central
BEGIN:VEVENT
SUMMARY:Martin Luther King Day (Library Closed)
DTSTART;VALUE=DATE:20250120
DTEND;VALUE=DATE:20250121
DTSTAMP:20260424T215829Z
UID:93bb4635af6442ecb9d6b8f2921e43bc@saas_stack_varnish:6080
CREATED:20241119T151259Z
LAST-MODIFIED:20241119T151309Z
URL:https://livingston.ploud.net/martin-luther-king-day-library-closed-1
END:VEVENT
END:VCALENDAR
