BEGIN:VCALENDAR
VERSION:2.0
PRODID:-//Plone.org//NONSGML plone.app.event//EN
X-WR-TIMEZONE:US/Central
BEGIN:VEVENT
SUMMARY:Memorial Day (Library Closed)
DTSTART;VALUE=DATE:20240525
DTEND;VALUE=DATE:20240526
DTSTAMP:20260424T233214Z
UID:dba27a6b693e4b898babd481184ebc94@saas_stack_varnish:6080
CREATED:20240510T143702Z
LAST-MODIFIED:20240510T143708Z
URL:https://livingston.ploud.net/memorial-day-library-closed-2
END:VEVENT
END:VCALENDAR
