BEGIN:VCALENDAR
VERSION:2.0
PRODID:-//Plone.org//NONSGML plone.app.event//EN
X-WR-TIMEZONE:US/Central
BEGIN:VEVENT
SUMMARY:Movie Day
DTSTART;TZID=US/Central:20250304T153000
DTEND;TZID=US/Central:20250304T163000
DTSTAMP:20260424T214759Z
UID:9a17a38a3ce244d38a463b2bdf3ea3b9@saas_stack_varnish:6080
ATTENDEE;CN="All ages";ROLE=REQ-PARTICIPANT:All ages
CONTACT:Jo'Lee Tarkon\, 936.327.4252\, livlibrarycal@gmail.com
CREATED:20250310T204927Z
DESCRIPTION:Please ask staff for information about what movie will be show
 n. Popcorn and drinks will be served.
LAST-MODIFIED:20250310T205042Z
LOCATION:Children's Activity Room (216)
URL:https://livingston.ploud.net/movie-day
END:VEVENT
BEGIN:VTIMEZONE
TZID:US/Central
X-LIC-LOCATION:US/Central
BEGIN:STANDARD
DTSTART:20241103T010000
TZNAME:CST
TZOFFSETFROM:-0500
TZOFFSETTO:-0600
END:STANDARD
END:VTIMEZONE
END:VCALENDAR
