BEGIN:VCALENDAR
VERSION:2.0
PRODID:-//Plone.org//NONSGML plone.app.event//EN
X-WR-TIMEZONE:US/Central
BEGIN:VEVENT
SUMMARY:Nature Journaling with Master Naturalist Leigh Allen
DTSTART;TZID=US/Central:20250630T113000
DTEND;TZID=US/Central:20250630T130000
DTSTAMP:20260424T221101Z
UID:2fc05ee0f9a34c27852d6baae6ce7379@saas_stack_varnish:6080
ATTENDEE;CN="Junior high and high school age children";ROLE=REQ-PARTICIPAN
 T:Junior high and high school age children
CONTACT:Jo'Lee Tarkon\, 936.327.4252\, livlibrarcal@gmail.com
CREATED:20250616T203915Z
DESCRIPTION:Observe. Reflect. Create. Nature journaling is a fun and relax
 ing way to connect with the world around you. Come learn out to record wha
 t you see\, hear\, and feel in your own unique journal. This program is fo
 r junior high and high school age children. No registration required. Plea
 se bring a notebook and pen/pencil to the event.
LAST-MODIFIED:20250616T212714Z
LOCATION:Children's Activity Room
URL:https://livingston.ploud.net/nature-journaling-with-master-naturalist-
 leigh-allen-1
END:VEVENT
BEGIN:VTIMEZONE
TZID:US/Central
X-LIC-LOCATION:US/Central
BEGIN:DAYLIGHT
DTSTART:20250309T030000
TZNAME:CDT
TZOFFSETFROM:-0600
TZOFFSETTO:-0500
END:DAYLIGHT
END:VTIMEZONE
END:VCALENDAR
