BEGIN:VCALENDAR
VERSION:2.0
PRODID:-//Plone.org//NONSGML plone.app.event//EN
X-WR-TIMEZONE:US/Central
BEGIN:VEVENT
SUMMARY:Book Babies
DTSTART;TZID=US/Central:20240227T103000
DTEND;TZID=US/Central:20240227T113000
DTSTAMP:20260421T080754Z
UID:a8953b18d2794dec8d417b3ea0a5e01d@saas_stack_varnish:6080
CONTACT:936.327.4252
CREATED:20240117T230341Z
DESCRIPTION:Theme: Opposites & Counting
LAST-MODIFIED:20240117T230345Z
LOCATION:Children's Activity Room
URL:https://livingston.ploud.net/news-events/lib-cal/book-babies-3
END:VEVENT
BEGIN:VTIMEZONE
TZID:US/Central
X-LIC-LOCATION:US/Central
BEGIN:STANDARD
DTSTART:20231105T010000
TZNAME:CST
TZOFFSETFROM:-0500
TZOFFSETTO:-0600
END:STANDARD
END:VTIMEZONE
END:VCALENDAR
