BEGIN:VCALENDAR
VERSION:2.0
PRODID:-//Plone.org//NONSGML plone.app.event//EN
X-WR-TIMEZONE:US/Central
BEGIN:VEVENT
SUMMARY:Celebrate National Play-Doh Day
DTSTART;TZID=US/Central:20160916T153000
DTEND;TZID=US/Central:20160916T170000
DTSTAMP:20260419T145316Z
UID:a188c5e465e040eabbad773d60de64ca@saas_stack_varnish:6080
CONTACT:936.327.4252
CREATED:20160909T155251Z
DESCRIPTION:Come join in the fun building and sculpting with Play-Doh!  Ma
 terials will be provided.  Everyone is invited to attend.
LAST-MODIFIED:20160909T155359Z
LOCATION:Children's Activity Room
URL:https://livingston.ploud.net/news-events/lib-cal/celebrate-national-pl
 ay-doh-day
END:VEVENT
BEGIN:VTIMEZONE
TZID:US/Central
X-LIC-LOCATION:US/Central
BEGIN:DAYLIGHT
DTSTART:20160313T030000
TZNAME:CDT
TZOFFSETFROM:-0600
TZOFFSETTO:-0500
END:DAYLIGHT
END:VTIMEZONE
END:VCALENDAR
