BEGIN:VCALENDAR
VERSION:2.0
PRODID:-//Plone.org//NONSGML plone.app.event//EN
X-WR-TIMEZONE:US/Central
BEGIN:VEVENT
SUMMARY:Christmas (Library Closed)
DTSTART;VALUE=DATE:20241224
DTEND;VALUE=DATE:20241225
DTSTAMP:20260419T091521Z
UID:d3360245a4b64efda10f3f5f35ca66eb@saas_stack_varnish:6080
CREATED:20231218T151155Z
LAST-MODIFIED:20231218T151200Z
URL:https://livingston.ploud.net/news-events/lib-cal/christmas-library-clo
 sed-8
END:VEVENT
END:VCALENDAR
