BEGIN:VCALENDAR
VERSION:2.0
PRODID:-//Plone.org//NONSGML plone.app.event//EN
X-WR-TIMEZONE:US/Central
BEGIN:VEVENT
SUMMARY:Craft Day
DTSTART;TZID=US/Central:20210721T150000
DTEND;TZID=US/Central:20210721T160000
DTSTAMP:20260420T091218Z
UID:11878b9871cf4b9ba289653e3fdbe2d4@saas_stack_varnish:6080
CONTACT:936.327.4252
CREATED:20210706T142735Z
DESCRIPTION:Please visit the library or call 936.327.4252 to register.
LAST-MODIFIED:20210706T142743Z
LOCATION:Meeting Room
URL:https://livingston.ploud.net/news-events/lib-cal/craft-day
END:VEVENT
BEGIN:VTIMEZONE
TZID:US/Central
X-LIC-LOCATION:US/Central
BEGIN:DAYLIGHT
DTSTART:20210314T030000
TZNAME:CDT
TZOFFSETFROM:-0600
TZOFFSETTO:-0500
END:DAYLIGHT
END:VTIMEZONE
END:VCALENDAR
