BEGIN:VCALENDAR
VERSION:2.0
PRODID:-//Plone.org//NONSGML plone.app.event//EN
X-WR-TIMEZONE:US/Central
BEGIN:VEVENT
SUMMARY:Eat What You Want Day Story Time
DTSTART;TZID=US/Central:20160511T103000
DTEND;TZID=US/Central:20160511T113000
DTSTAMP:20260421T081624Z
UID:46dc272d29c64872ad269648626d8f9b@saas_stack_varnish:6080
CONTACT:936.327.4252
CREATED:20160222T231430Z
DESCRIPTION:Enjoy your favorite foods and snacks while you listen to some 
 stories.  Make sure you bring some to share!
LAST-MODIFIED:20160222T231454Z
URL:https://livingston.ploud.net/news-events/lib-cal/eat-what-you-want-day
 -story-time
END:VEVENT
BEGIN:VTIMEZONE
TZID:US/Central
X-LIC-LOCATION:US/Central
BEGIN:DAYLIGHT
DTSTART:20160313T030000
TZNAME:CDT
TZOFFSETFROM:-0600
TZOFFSETTO:-0500
END:DAYLIGHT
END:VTIMEZONE
END:VCALENDAR
