BEGIN:VCALENDAR
VERSION:2.0
PRODID:-//Plone.org//NONSGML plone.app.event//EN
X-WR-TIMEZONE:US/Central
BEGIN:VEVENT
SUMMARY:Family Story Time
DTSTART;TZID=US/Central:20240229T103000
DTEND;TZID=US/Central:20240229T113000
DTSTAMP:20260419T120149Z
UID:bd5135eb9e9649dbad2e2e067d976e42@saas_stack_varnish:6080
CONTACT:936.327.4252
CREATED:20240117T230541Z
DESCRIPTION:Theme: Leap Day Fun
LAST-MODIFIED:20240117T230547Z
LOCATION:Children's Activity Room
URL:https://livingston.ploud.net/news-events/lib-cal/family-story-time-4
END:VEVENT
BEGIN:VTIMEZONE
TZID:US/Central
X-LIC-LOCATION:US/Central
BEGIN:STANDARD
DTSTART:20231105T010000
TZNAME:CST
TZOFFSETFROM:-0500
TZOFFSETTO:-0600
END:STANDARD
END:VTIMEZONE
END:VCALENDAR
