BEGIN:VCALENDAR
VERSION:2.0
PRODID:-//Plone.org//NONSGML plone.app.event//EN
X-WR-TIMEZONE:US/Central
BEGIN:VEVENT
SUMMARY:Friends of the Library Book Sale
DTSTART;TZID=US/Central:20170519T100000
DTEND;TZID=US/Central:20170519T140000
DTSTAMP:20260419T132140Z
UID:32b862a8efce47638004f7fe2c7beff4@saas_stack_varnish:6080
CONTACT:936.327.4252
CREATED:20170320T130836Z
LAST-MODIFIED:20170320T130841Z
LOCATION:Book Sale Room
URL:https://livingston.ploud.net/news-events/lib-cal/friends-of-the-librar
 y-book-sale-5
END:VEVENT
BEGIN:VTIMEZONE
TZID:US/Central
X-LIC-LOCATION:US/Central
BEGIN:DAYLIGHT
DTSTART:20170312T030000
TZNAME:CDT
TZOFFSETFROM:-0600
TZOFFSETTO:-0500
END:DAYLIGHT
END:VTIMEZONE
END:VCALENDAR
