BEGIN:VCALENDAR
VERSION:2.0
PRODID:-//Plone.org//NONSGML plone.app.event//EN
X-WR-TIMEZONE:US/Central
BEGIN:VEVENT
SUMMARY:"Get Big Ideas: Read a Book" (Bonzo Crunch)
DTSTART;TZID=US/Central:20160622T103000
DTEND;TZID=US/Central:20160622T113000
DTSTAMP:20260421T081157Z
UID:e48fe04865524d7e86b65b12d8533961@saas_stack_varnish:6080
CONTACT:936.327.4252\, http://bonzocrunch.com/services/
CREATED:20160418T142914Z
DESCRIPTION:Juggling and magic show appropriate for all ages.
LAST-MODIFIED:20160418T142918Z
LOCATION:Meeting Room
URL:https://livingston.ploud.net/news-events/lib-cal/get-big-ideas-read-a-
 book-bonzo-crunch
END:VEVENT
BEGIN:VTIMEZONE
TZID:US/Central
X-LIC-LOCATION:US/Central
BEGIN:DAYLIGHT
DTSTART:20160313T030000
TZNAME:CDT
TZOFFSETFROM:-0600
TZOFFSETTO:-0500
END:DAYLIGHT
END:VTIMEZONE
END:VCALENDAR
