BEGIN:VCALENDAR
VERSION:2.0
PRODID:-//Plone.org//NONSGML plone.app.event//EN
X-WR-TIMEZONE:US/Central
BEGIN:VEVENT
SUMMARY:Lake Livingston State Park Ranger
DTSTART;TZID=US/Central:20240726T103000
DTEND;TZID=US/Central:20240726T113000
DTSTAMP:20260421T094626Z
UID:d8c84ef742a947ac82fa5a4b8283e531@saas_stack_varnish:6080
CONTACT:936.327.4252\, library@livingstonlibrary.net\, https://tpwd.texas.
 gov/state-parks/lake-livingston
CREATED:20240501T145559Z
LAST-MODIFIED:20240501T145606Z
LOCATION:Meeting Room (214)
URL:https://livingston.ploud.net/news-events/lib-cal/lake-livingston-state
 -park-ranger-1
END:VEVENT
BEGIN:VTIMEZONE
TZID:US/Central
X-LIC-LOCATION:US/Central
BEGIN:DAYLIGHT
DTSTART:20240310T030000
TZNAME:CDT
TZOFFSETFROM:-0600
TZOFFSETTO:-0500
END:DAYLIGHT
END:VTIMEZONE
END:VCALENDAR
