BEGIN:VCALENDAR
VERSION:2.0
PRODID:-//Plone.org//NONSGML plone.app.event//EN
X-WR-TIMEZONE:US/Central
BEGIN:VEVENT
SUMMARY:National Library Week (Teen Activity)
DTSTART;TZID=US/Central:20170409T100000
DTEND;TZID=US/Central:20170415T180000
DTSTAMP:20260419T145214Z
UID:6288fe932a714c55b2544b6f3ff3b6a7@saas_stack_varnish:6080
CONTACT:936.327.4252
CREATED:20170401T131107Z
DESCRIPTION:Tell us what you love about our library. Add your message to t
 he board.
LAST-MODIFIED:20170401T131141Z
LOCATION:Young Adult Room
URL:https://livingston.ploud.net/news-events/lib-cal/national-library-week
 -teen-activity
END:VEVENT
BEGIN:VTIMEZONE
TZID:US/Central
X-LIC-LOCATION:US/Central
BEGIN:DAYLIGHT
DTSTART:20170312T030000
TZNAME:CDT
TZOFFSETFROM:-0600
TZOFFSETTO:-0500
END:DAYLIGHT
END:VTIMEZONE
END:VCALENDAR
