BEGIN:VCALENDAR
VERSION:2.0
PRODID:-//Plone.org//NONSGML plone.app.event//EN
X-WR-TIMEZONE:US/Central
BEGIN:VEVENT
SUMMARY:New Year's Day (Library Closed)
DTSTART;VALUE=DATE:20221231
DTEND;VALUE=DATE:20230101
DTSTAMP:20260421T081103Z
UID:f7a071372ef0406ca5f1f19e7924d097@saas_stack_varnish:6080
CREATED:20221118T170145Z
LAST-MODIFIED:20221118T170152Z
URL:https://livingston.ploud.net/news-events/lib-cal/new-years-day-library
 -closed-3
END:VEVENT
END:VCALENDAR
