BEGIN:VCALENDAR
VERSION:2.0
PRODID:-//Plone.org//NONSGML plone.app.event//EN
X-WR-TIMEZONE:US/Central
BEGIN:VEVENT
SUMMARY:Sons of Confederacy Civil War Program
DTSTART;TZID=US/Central:20151027T140000
DTEND;TZID=US/Central:20151027T150000
DTSTAMP:20260421T110930Z
UID:9b4dd15a40394b32ba3021378fc3d7b0@saas_stack_varnish:6080
ATTENDEE;CN=Adults;ROLE=REQ-PARTICIPANT:Adults
CREATED:20151014T134330Z
LAST-MODIFIED:20151014T134415Z
LOCATION:Meeting Room
URL:https://livingston.ploud.net/news-events/lib-cal/sons-of-confederacy-c
 ivil-war-program
END:VEVENT
BEGIN:VTIMEZONE
TZID:US/Central
X-LIC-LOCATION:US/Central
BEGIN:DAYLIGHT
DTSTART:20150308T030000
TZNAME:CDT
TZOFFSETFROM:-0600
TZOFFSETTO:-0500
END:DAYLIGHT
END:VTIMEZONE
END:VCALENDAR
