BEGIN:VCALENDAR
VERSION:2.0
PRODID:-//Plone.org//NONSGML plone.app.event//EN
X-WR-TIMEZONE:US/Central
BEGIN:VEVENT
SUMMARY:St. Patrick's Day Toddler Time
DTSTART;TZID=US/Central:20170314T110000
DTEND;TZID=US/Central:20170314T113000
DTSTAMP:20260421T110930Z
UID:a85ed3ed6cc2491a8471985ee45c1078@saas_stack_varnish:6080
CONTACT:936.327.4252
CREATED:20170221T190601Z
LAST-MODIFIED:20170221T190714Z
LOCATION:Children's Activity Room
URL:https://livingston.ploud.net/news-events/lib-cal/st-patricks-day-toddl
 er-time
END:VEVENT
BEGIN:VTIMEZONE
TZID:US/Central
X-LIC-LOCATION:US/Central
BEGIN:DAYLIGHT
DTSTART:20170312T030000
TZNAME:CDT
TZOFFSETFROM:-0600
TZOFFSETTO:-0500
END:DAYLIGHT
END:VTIMEZONE
END:VCALENDAR
