BEGIN:VCALENDAR
VERSION:2.0
PRODID:-//Plone.org//NONSGML plone.app.event//EN
X-WR-TIMEZONE:US/Central
BEGIN:VEVENT
SUMMARY:Summer Reading Club Ends
DTSTART;TZID=US/Central:20160730T100000
DTEND;TZID=US/Central:20160730T140000
DTSTAMP:20260419T115620Z
UID:74347127ea4c40c5abb684c6c1b3c466@saas_stack_varnish:6080
CONTACT:936.327.4252
CREATED:20160705T200620Z
DESCRIPTION:Last day to turn in reading logs for prizes.
LAST-MODIFIED:20160712T224346Z
URL:https://livingston.ploud.net/news-events/lib-cal/summer-reading-club-e
 nds
END:VEVENT
BEGIN:VTIMEZONE
TZID:US/Central
X-LIC-LOCATION:US/Central
BEGIN:DAYLIGHT
DTSTART:20160313T030000
TZNAME:CDT
TZOFFSETFROM:-0600
TZOFFSETTO:-0500
END:DAYLIGHT
END:VTIMEZONE
END:VCALENDAR
