BEGIN:VCALENDAR
VERSION:2.0
PRODID:-//Plone.org//NONSGML plone.app.event//EN
X-WR-TIMEZONE:US/Central
BEGIN:VEVENT
SUMMARY:Veterans Day (Library Closed)
DTSTART;VALUE=DATE:20241111
DTEND;VALUE=DATE:20241112
DTSTAMP:20260421T093242Z
UID:edf2b1baf78e4db3a70cfe17a09ba0a9@saas_stack_varnish:6080
CREATED:20231218T150941Z
LAST-MODIFIED:20231218T150946Z
URL:https://livingston.ploud.net/news-events/lib-cal/veterans-day-library-
 closed-2
END:VEVENT
END:VCALENDAR
