BEGIN:VCALENDAR
VERSION:2.0
PRODID:-//Plone.org//NONSGML plone.app.event//EN
X-WR-TIMEZONE:US/Central
BEGIN:VEVENT
SUMMARY:Will Parker (Professional Storyteller & Musician)
DTSTART;TZID=US/Central:20170628T103000
DTEND;TZID=US/Central:20170628T114500
DTSTAMP:20260421T093928Z
UID:2aab40ef834f4512a56c805007e165dd@saas_stack_varnish:6080
CONTACT:936.327.4252
CREATED:20170518T143508Z
DESCRIPTION:Will Parker is a children's songwriter and teaching artist\, m
 aking music for "kids ages 1-100." During Will's whimsical and interactive
  shows\, he plays guitar and harmonica and sings songs that open us up to 
 the world of imagination while simultaneously validating the human experie
 nce. A fan favorite at each of Will's show is an improvised song based on 
 topic suggestions from the audience.
LAST-MODIFIED:20170628T150443Z
LOCATION:Meeting Room
URL:https://livingston.ploud.net/news-events/lib-cal/will-parker-professio
 nal-storyteller-musician
END:VEVENT
BEGIN:VTIMEZONE
TZID:US/Central
X-LIC-LOCATION:US/Central
BEGIN:DAYLIGHT
DTSTART:20170312T030000
TZNAME:CDT
TZOFFSETFROM:-0600
TZOFFSETTO:-0500
END:DAYLIGHT
END:VTIMEZONE
END:VCALENDAR
