BEGIN:VCALENDAR
VERSION:2.0
PRODID:-//Plone.org//NONSGML plone.app.event//EN
X-WR-TIMEZONE:US/Central
BEGIN:VEVENT
SUMMARY:Oceans - Houston Museum of Natural Science
DTSTART;TZID=US/Central:20250211T160000
DTEND;TZID=US/Central:20250211T170000
DTSTAMP:20260424T221404Z
UID:9ed85c42a7034f3fa9768080da0890df@saas_stack_varnish:6080
CONTACT:936.327.4252\, livlibrarycal@gmail.com
CREATED:20241230T160544Z
LAST-MODIFIED:20241230T160609Z
LOCATION:Meeting Room (214)
URL:https://livingston.ploud.net/oceans-houston-museum-of-natural-science
END:VEVENT
BEGIN:VTIMEZONE
TZID:US/Central
X-LIC-LOCATION:US/Central
BEGIN:STANDARD
DTSTART:20241103T010000
TZNAME:CST
TZOFFSETFROM:-0500
TZOFFSETTO:-0600
END:STANDARD
END:VTIMEZONE
END:VCALENDAR
