BEGIN:VCALENDAR
VERSION:2.0
PRODID:-//Plone.org//NONSGML plone.app.event//EN
X-WR-TIMEZONE:US/Central
BEGIN:VEVENT
SUMMARY:Presidents Day (Library Closed)
DTSTART;VALUE=DATE:20250217
DTEND;VALUE=DATE:20250218
DTSTAMP:20260424T220049Z
UID:4a2a7b3d5d7d4b18af7ee2304431f133@saas_stack_varnish:6080
CREATED:20241119T151452Z
LAST-MODIFIED:20241119T151504Z
URL:https://livingston.ploud.net/presidents-day-library-closed-1
END:VEVENT
END:VCALENDAR
