BEGIN:VCALENDAR
VERSION:2.0
PRODID:-//Plone.org//NONSGML plone.app.event//EN
X-WR-TIMEZONE:US/Central
BEGIN:VEVENT
SUMMARY:STEM Exploration Day
DTSTART;TZID=US/Central:20250402T140000
DTEND;TZID=US/Central:20250402T150000
DTSTAMP:20260424T214753Z
UID:2582745ba37b43b996e2a27aa30d5878@saas_stack_varnish:6080
ATTENDEE;CN="Ages 6 and up";ROLE=REQ-PARTICIPANT:Ages 6 and up
CONTACT:Jo'Lee Tarkon\, 936.327.4252\, livlibrarycal@gmail.com
CREATED:20250310T203723Z
DESCRIPTION:Join us for tons of experiments and fun!
LAST-MODIFIED:20250402T154220Z
LOCATION:Children's Activity Room (216)
URL:https://livingston.ploud.net/stem-exploration-day
END:VEVENT
BEGIN:VTIMEZONE
TZID:US/Central
X-LIC-LOCATION:US/Central
BEGIN:DAYLIGHT
DTSTART:20250309T030000
TZNAME:CDT
TZOFFSETFROM:-0600
TZOFFSETTO:-0500
END:DAYLIGHT
END:VTIMEZONE
END:VCALENDAR
