BEGIN:VCALENDAR
VERSION:2.0
PRODID:-//Plone.org//NONSGML plone.app.event//EN
X-WR-TIMEZONE:US/Central
BEGIN:VEVENT
SUMMARY:Toddler Storytime
DTSTART;TZID=US/Central:20241120T103000
DTEND;TZID=US/Central:20241120T113000
DTSTAMP:20260424T215136Z
UID:6a9063a492fe45b7a1537348c8a58e6d@saas_stack_varnish:6080
ATTENDEE;CN="Walkers up to 3";ROLE=REQ-PARTICIPANT:Walkers up to 3
CONTACT:Jo'Lee Tarkon\, 936.327.4252\, library@livingstonlibrary.net
CREATED:20241024T181929Z
DESCRIPTION:Theme: Turkeys
LAST-MODIFIED:20241024T213307Z
LOCATION:Children's Activity Room
URL:https://livingston.ploud.net/toddler-storytime
END:VEVENT
BEGIN:VTIMEZONE
TZID:US/Central
X-LIC-LOCATION:US/Central
BEGIN:STANDARD
DTSTART:20241103T010000
TZNAME:CST
TZOFFSETFROM:-0500
TZOFFSETTO:-0600
END:STANDARD
END:VTIMEZONE
END:VCALENDAR
