BEGIN:VCALENDAR
VERSION:2.0
PRODID:-//Plone.org//NONSGML plone.app.event//EN
X-WR-TIMEZONE:US/Central
BEGIN:VEVENT
SUMMARY:Veterans Day (Library Closed)
DTSTART;VALUE=DATE:20251111
DTEND;VALUE=DATE:20251112
DTSTAMP:20260424T215038Z
UID:4e865441755242f7be09071fc1c6a7a7@saas_stack_varnish:6080
CREATED:20241119T152654Z
LAST-MODIFIED:20241119T152707Z
URL:https://livingston.ploud.net/veterans-day-library-closed
END:VEVENT
END:VCALENDAR
