BEGIN:VCALENDAR
VERSION:2.0
PRODID:-//Plone.org//NONSGML plone.app.event//EN
X-WR-TIMEZONE:US/Central
BEGIN:VEVENT
SUMMARY:Watercolor Christmas Card Class
DTSTART;TZID=US/Central:20241213T150000
DTEND;TZID=US/Central:20241213T160000
DTSTAMP:20260424T220318Z
UID:e7c9e323c4b242f6bcd6583997224457@saas_stack_varnish:6080
ATTENDEE;CN="Ages 10 and up";ROLE=REQ-PARTICIPANT:Ages 10 and up
CONTACT:Jo'Lee Tarkon\, 936.327.4252\, livlibrarycal@gmail.com
CREATED:20241127T160603Z
LAST-MODIFIED:20241127T160625Z
LOCATION:Children's Activity Room (216)
URL:https://livingston.ploud.net/watercolor-christmas-card-class
END:VEVENT
BEGIN:VTIMEZONE
TZID:US/Central
X-LIC-LOCATION:US/Central
BEGIN:STANDARD
DTSTART:20241103T010000
TZNAME:CST
TZOFFSETFROM:-0500
TZOFFSETTO:-0600
END:STANDARD
END:VTIMEZONE
END:VCALENDAR
